BEGIN:VCALENDAR
VERSION:2.0
PRODID:-//Squarespace Inc/Squarespace 6//v6//EN
BEGIN:VEVENT
UID:5413de1fe4b0081a3776a6ce@squarespace.com
DTSTAMP:20140913T075426Z
DTSTART:20141024T173000Z
DTEND:20141025T043000Z
SUMMARY:Pearl of the North
GEO:-35.121087;174.0061
LOCATION:Tapuawaetahi Beach\, 1165 Purerua Rd\, Te Tii\, Northland\, 0294\, 
 New Zealand
END:VEVENT
END:VCALENDAR
