BEGIN:VCALENDAR
VERSION:2.0
PRODID:-//Squarespace Inc/Squarespace 6//v6//EN
BEGIN:VEVENT
UID:544ea1c2e4b03c7c30b6f111@squarespace.com
DTSTAMP:20141027T195537Z
DTSTART:20141128T190000Z
DTEND:20141129T030000Z
SUMMARY:Hoe Waka Whangamata
GEO:-37.197578;175.873148
LOCATION:Whangamata Harbour\, Beach Rd\, Whangamata\, Waikato\, 3620\, New 
 Zealand
END:VEVENT
END:VCALENDAR
