BEGIN:VCALENDAR
VERSION:2.0
PRODID:-//Squarespace Inc/Squarespace 6//v6//EN
BEGIN:VEVENT
UID:5451921fe4b0752ff9962ed2@squarespace.com
DTSTAMP:20141030T022250Z
DTSTART:20141116T015000Z
DTEND:20141116T033000Z
SUMMARY:Waitakere Round the Island Spring Series - Race 2
GEO:-36.861882;174.656509
LOCATION:Te Atatu Boat Club\, 32 Bridge Ave\, Auckland\, Auckland\, 0610\, 
 New Zealand
END:VEVENT
END:VCALENDAR
