BEGIN:VCALENDAR
VERSION:2.0
PRODID:-//Squarespace Inc/Squarespace 6//v6//EN
BEGIN:VEVENT
UID:54519533e4b04be566332be9@squarespace.com
DTSTAMP:20141030T022521Z
DTSTART:20141121T183000Z
DTEND:20141121T200000Z
SUMMARY:Waitakere Round the Island Spring Series - Race 3
GEO:-36.861882;174.656509
LOCATION:Te Atatu Boat Club\, 32 Bridge Ave\, Auckland\, Auckland\, 0610\, 
 New Zealand
END:VEVENT
END:VCALENDAR
