BEGIN:VCALENDAR
VERSION:2.0
PRODID:-//Squarespace Inc/Squarespace 6//v6//EN
BEGIN:VEVENT
UID:54518f7ee4b0c8fc39b299dd@squarespace.com
DTSTAMP:20141030T022407Z
DTSTART:20141107T193000Z
DTEND:20141107T210000Z
SUMMARY:Waitakere Round the Island Spring Series - Race 1
GEO:-36.861882;174.656509
LOCATION:Te Atatu Boat Club\, 32 Bridge Ave\, Auckland\, Auckland\, 0610\, 
 New Zealand
END:VEVENT
END:VCALENDAR
