BEGIN:VCALENDAR
VERSION:2.0
PRODID:-//Squarespace Inc/Squarespace 6//v6//EN
BEGIN:VEVENT
UID:54519f35e4b095bd11993d1d@squarespace.com
DTSTAMP:20141030T022056Z
DTSTART:20141205T182500Z
DTEND:20141205T194500Z
SUMMARY:Waitakere Round the Island Spring Series - Race 5 Fun Paddle
GEO:-36.861882;174.656509
LOCATION:Te Atatu Boat Club\, 32 Bridge Ave\, Auckland\, Auckland\, 0610\, 
 New Zealand
END:VEVENT
END:VCALENDAR
