BEGIN:VCALENDAR
VERSION:2.0
PRODID:-//Squarespace Inc/Squarespace 6//v6//EN
BEGIN:VEVENT
UID:544ea3d7e4b0dfe393c185a1@squarespace.com
DTSTAMP:20141030T015813Z
DTSTART:20141206T180000Z
DTEND:20141206T190000Z
SUMMARY:2014 AROCA W1 Sprint National Trials 
GEO:-36.787923;174.768821
LOCATION:Lake Pupuke\, Takapuna\, Auckland\, Auckland\, 0622\, New Zealand
END:VEVENT
END:VCALENDAR
