BEGIN:VCALENDAR
VERSION:2.0
PRODID:-//Squarespace Inc/Squarespace 6//v6//EN
BEGIN:VEVENT
UID:541020bae4b07fe1be596052@squarespace.com
DTSTAMP:20140913T055613Z
DTSTART:20140926T190000Z
DTEND:20140929T050000Z
SUMMARY:Trans Tasman Gubbi Gubbi Championships
GEO:-26.736538;153.12501
LOCATION:Lake Kawana\, Sportsmans Parade\, Bokarina\, QLD\, 4575\, Australi
 a
END:VEVENT
END:VCALENDAR
