BEGIN:VCALENDAR
VERSION:2.0
PRODID:-//Squarespace Inc/Squarespace 6//v6//EN
BEGIN:VEVENT
UID:54c1cfe7e4b060a897511098@squarespace.com
DTSTAMP:20150123T044119Z
DTSTART:20150219T200000Z
DTEND:20150221T210000Z
SUMMARY:Takapuna Beach Cup
END:VEVENT
END:VCALENDAR
