BEGIN:VCALENDAR
VERSION:2.0
PRODID:-//Squarespace Inc/Squarespace 6//v6//EN
BEGIN:VEVENT
UID:57e070fcd2b857fe868e7142@squarespace.com
DTSTAMP:20160919T232859Z
DTSTART:20161008T043000Z
DTEND:20161008T103000Z
SUMMARY:Waitakere Outriggers 25th Anniversary
END:VEVENT
END:VCALENDAR
